BEGIN:VCALENDAR
VERSION:2.0
PRODID:-//Tukios.com/
BEGIN:VEVENT
UID:cccdbcd4-7730-4815-93c8-94b033783243@www.matheneyfh.com
DTSTAMP:20260422T000040Z
DTSTART:20260424T200000Z
DTEND:20260424T230000Z
SUMMARY:Visitation
DESCRIPTION:
URL:https://www.matheneyfh.com/obituaries/darrell-carpenter
LOCATION:Stone-Matheney Funeral Home 7465 Marion Street  Chesterhill OH 
	43728
GEO:39.489171;-81.865885
END:VEVENT
END:VCALENDAR