BEGIN:VCALENDAR
VERSION:2.0
PRODID:-//Tukios.com/
BEGIN:VEVENT
UID:a3cf01a0-bd3e-46f8-a806-11148313fe5d@www.matheneyfh.com
DTSTAMP:20260422T000159Z
DTSTART:20260425T140000Z
DTEND:20260425T150000Z
SUMMARY:Funeral Service
DESCRIPTION:
URL:https://www.matheneyfh.com/obituaries/darrell-carpenter
LOCATION:Stone-Matheney Funeral Home 7465 Marion Street  Chesterhill OH 
	43728
GEO:39.489171;-81.865885
END:VEVENT
END:VCALENDAR