BEGIN:VCALENDAR
VERSION:2.0
PRODID:-//Tukios.com/
BEGIN:VEVENT
UID:499502b3-359a-4715-86e2-642d88c7dd30@www.matheneyfh.com
DTSTAMP:20260425T195500Z
DTSTART:20260428T210000Z
DTEND:20260428T230000Z
SUMMARY:Memorial Service
DESCRIPTION:
URL:https://www.matheneyfh.com/obituaries/sheila-dailey
LOCATION: 165 North Kennebec Avenue  McConnelsville OH 43756
GEO:39.6503112;-81.8528937
END:VEVENT
END:VCALENDAR